BEGIN:VCALENDAR
VERSION:2.0
PRODID:-//www.foundationgmc.org//NONSGML kigkonsult.se iCalcreator 2.39.1//
CALSCALE:GREGORIAN
METHOD:PUBLISH
UID:d9c1dfd1-4677-4c73-a2aa-4f5292ef208e
X-WR-CALNAME:www.foundationgmc.org
X-WR-CALDESC:www.foundationgmc.org
X-WR-TIMEZONE:America/Los_Angeles
X-LIC-LOCATION:America/Los_Angeles
BEGIN:VEVENT
UID:1d94a020-ac23-4f0b-a326-f5647983c206
DTSTAMP:20260422T145501Z
CLASS:PUBLIC
DTSTART;TZID=America/Los_Angeles:20260426T183000
DTEND;TZID=America/Los_Angeles:20260426T200000
SUMMARY:CREW 45
TRANSP:OPAQUE
BEGIN:VALARM
ACTION:DISPLAY
DESCRIPTION:CREW 45
TRIGGER:-PT15M
END:VALARM
END:VEVENT
END:VCALENDAR
