BEGIN:VCALENDAR
VERSION:2.0
PRODID:-//www.foundationgmc.org//NONSGML kigkonsult.se iCalcreator 2.39.1//
CALSCALE:GREGORIAN
METHOD:PUBLISH
UID:a9954f78-d5da-4fec-ae5a-d2d4bcbc0664
X-WR-CALNAME:www.foundationgmc.org
X-WR-CALDESC:www.foundationgmc.org
X-WR-TIMEZONE:America/Los_Angeles
X-LIC-LOCATION:America/Los_Angeles
BEGIN:VEVENT
UID:1e8c0342-f933-4716-9b0b-384b4c8ca7db
DTSTAMP:20260421T141843Z
CLASS:PUBLIC
DTSTART;TZID=America/Los_Angeles:20260421T080000
DTEND;TZID=America/Los_Angeles:20260421T090000
SUMMARY:Tuesday Morning Men's Bible Study
TRANSP:OPAQUE
BEGIN:VALARM
ACTION:DISPLAY
DESCRIPTION:Tuesday Morning Men's Bible Study
TRIGGER:-PT15M
END:VALARM
END:VEVENT
END:VCALENDAR
